BEGIN:VCALENDAR
VERSION:2.0
PRODID:-//ChamberMaster//Event Calendar 2.0//EN
METHOD:PUBLISH
X-PUBLISHED-TTL:P3D
REFRESH-INTERVAL:P3D
CALSCALE:GREGORIAN
BEGIN:VEVENT
DTSTART:20161208T163000Z
DTEND:20161208T180000Z
X-MICROSOFT-CDO-ALLDAYEVENT:FALSE
SUMMARY:Women in Business
DESCRIPTION:Women in Business - Xmas party
X-ALT-DESC;FMTTYPE=text/html:Women in Business - Xmas party
LOCATION:Barrow Regional Medical Center
UID:e.363.6900
SEQUENCE:3
DTSTAMP:20260420T020105Z
URL:https://barrowcm.365dtm.com/events/details/women-in-business-6900
END:VEVENT

END:VCALENDAR
