BEGIN:VCALENDAR
VERSION:2.0
PRODID:-//ChamberMaster//Event Calendar 2.0//EN
METHOD:PUBLISH
X-PUBLISHED-TTL:P3D
REFRESH-INTERVAL:P3D
CALSCALE:GREGORIAN
BEGIN:VEVENT
DTSTART;VALUE=DATE:20151021
DTEND;VALUE=DATE:20151022
TRANSP:TRANSPARENT
X-MICROSOFT-CDO-ALLDAYEVENT:TRUE
SUMMARY:Women in Business - Al Simon
DESCRIPTION:Al Simon is back to help us with Goal Setting for 2016
X-ALT-DESC;FMTTYPE=text/html:Al Simon is back to help us with Goal Setting for 2016
LOCATION:Hostess House
UID:e.363.5826
SEQUENCE:3
DTSTAMP:20260420T233031Z
URL:https://barrowcm.365dtm.com/events/details/women-in-business-al-simon-10-21-2015-5826
END:VEVENT

END:VCALENDAR
