BEGIN:VCALENDAR
VERSION:2.0
PRODID:-//ChamberMaster//Event Calendar 2.0//EN
METHOD:PUBLISH
X-PUBLISHED-TTL:P3D
REFRESH-INTERVAL:P3D
CALSCALE:GREGORIAN
BEGIN:VEVENT
DTSTART:20101208T163000Z
DTEND:20101208T180000Z
X-MICROSOFT-CDO-ALLDAYEVENT:FALSE
SUMMARY:Women in Business - BUNKO
DESCRIPTION:Women in Business
X-ALT-DESC;FMTTYPE=text/html:Women in Business
LOCATION:The Hostess House 299 Cedar Creek Rd
UID:e.363.3651
SEQUENCE:3
DTSTAMP:20260424T182655Z
URL:https://barrowcm.365dtm.com/events/details/women-in-business-bunko-12-08-2010-3651
END:VEVENT

END:VCALENDAR
