BEGIN:VCALENDAR
VERSION:2.0
PRODID:-//ChamberMaster//Event Calendar 2.0//EN
METHOD:PUBLISH
X-PUBLISHED-TTL:P3D
REFRESH-INTERVAL:P3D
CALSCALE:GREGORIAN
BEGIN:VEVENT
DTSTART;VALUE=DATE:20150915
DTEND;VALUE=DATE:20150916
TRANSP:TRANSPARENT
X-MICROSOFT-CDO-ALLDAYEVENT:TRUE
SUMMARY:Women in Business - Chico's
DESCRIPTION:WIB at Chico's\n\nmust have reservation
X-ALT-DESC;FMTTYPE=text/html:WIB at Chico&#39\;s<br />\nmust have reservation
LOCATION:1020 Industrial Pkwy\, Winder
UID:e.363.5809
SEQUENCE:3
DTSTAMP:20260421T011245Z
URL:https://barrowcm.365dtm.com/events/details/women-in-business-chico-s-09-15-2015-5809
END:VEVENT

END:VCALENDAR
