BEGIN:VCALENDAR
VERSION:2.0
PRODID:-//ChamberMaster//Event Calendar 2.0//EN
METHOD:PUBLISH
X-PUBLISHED-TTL:P3D
REFRESH-INTERVAL:P3D
CALSCALE:GREGORIAN
BEGIN:VEVENT
DTSTART:20120215T120000Z
DTEND:20120215T140000Z
X-MICROSOFT-CDO-ALLDAYEVENT:FALSE
SUMMARY:Workforce Development
DESCRIPTION:Workforce Development @ Rhodia
X-ALT-DESC;FMTTYPE=text/html:Workforce Development @ Rhodia
LOCATION:Rhodia - 577 Bankhead Hwy\, WInder
UID:e.363.4154
SEQUENCE:3
DTSTAMP:20260423T221912Z
URL:https://barrowcm.365dtm.com/events/details/workforce-development-02-15-2012-4154
END:VEVENT

END:VCALENDAR
