BEGIN:VCALENDAR
VERSION:2.0
PRODID:-//ChamberMaster//Event Calendar 2.0//EN
METHOD:PUBLISH
X-PUBLISHED-TTL:P3D
REFRESH-INTERVAL:P3D
CALSCALE:GREGORIAN
BEGIN:VEVENT
DTSTART:20130220T130000Z
DTEND:20130220T140000Z
X-MICROSOFT-CDO-ALLDAYEVENT:FALSE
SUMMARY:Workforce Development
DESCRIPTION:Workforce Develpment
X-ALT-DESC;FMTTYPE=text/html:Workforce Develpment
LOCATION:Rhodia
UID:e.363.4835
SEQUENCE:3
DTSTAMP:20260423T035300Z
URL:https://barrowcm.365dtm.com/events/details/workforce-development-02-20-2013-4835
END:VEVENT

END:VCALENDAR
