BEGIN:VCALENDAR
VERSION:2.0
PRODID:-//ChamberMaster//Event Calendar 2.0//EN
METHOD:PUBLISH
X-PUBLISHED-TTL:P3D
REFRESH-INTERVAL:P3D
CALSCALE:GREGORIAN
BEGIN:VEVENT
DTSTART:20150318T123000Z
DTEND:20150319T013000Z
X-MICROSOFT-CDO-ALLDAYEVENT:FALSE
SUMMARY:Workforce Development
DESCRIPTION:Workforce Developlment
X-ALT-DESC;FMTTYPE=text/html:Workforce Developlment
LOCATION:Sims Academy - Austin Rd.
UID:e.363.5761
SEQUENCE:3
DTSTAMP:20260421T104924Z
URL:https://barrowcm.365dtm.com/events/details/workforce-development-03-18-2015-5761
END:VEVENT

END:VCALENDAR
