BEGIN:VCALENDAR
VERSION:2.0
PRODID:-//ChamberMaster//Event Calendar 2.0//EN
METHOD:PUBLISH
X-PUBLISHED-TTL:P3D
REFRESH-INTERVAL:P3D
CALSCALE:GREGORIAN
BEGIN:VEVENT
DTSTART:20150527T123000Z
DTEND:20150527T133000Z
X-MICROSOFT-CDO-ALLDAYEVENT:FALSE
SUMMARY:Workforce Development
DESCRIPTION:Workforce Development @ Solvay
X-ALT-DESC;FMTTYPE=text/html:Workforce Development @ Solvay
LOCATION:Solvay
UID:e.363.5781
SEQUENCE:3
DTSTAMP:20260421T073851Z
URL:https://barrowcm.365dtm.com/events/details/workforce-development-05-27-2015-5781
END:VEVENT

END:VCALENDAR
