BEGIN:VCALENDAR
VERSION:2.0
PRODID:-//ChamberMaster//Event Calendar 2.0//EN
METHOD:PUBLISH
X-PUBLISHED-TTL:P3D
REFRESH-INTERVAL:P3D
CALSCALE:GREGORIAN
BEGIN:VEVENT
DTSTART:20100713T123000Z
DTEND:20100713T133000Z
X-MICROSOFT-CDO-ALLDAYEVENT:FALSE
SUMMARY:Workforce Development
DESCRIPTION:Workforce Development Committee will meet at a different time in July. This was decided at the May meeting. We will return to our same meeting time in August.
X-ALT-DESC;FMTTYPE=text/html:<div>Workforce Development Committee will meet at a different time in July. This was decided at the May meeting. We will return to our same meeting time in August.</div>
LOCATION:Chamber Office
UID:e.363.3561
SEQUENCE:3
DTSTAMP:20260425T014507Z
URL:https://barrowcm.365dtm.com/events/details/workforce-development-07-13-2010-3561
END:VEVENT

END:VCALENDAR
