BEGIN:VCALENDAR
VERSION:2.0
PRODID:-//ChamberMaster//Event Calendar 2.0//EN
METHOD:PUBLISH
X-PUBLISHED-TTL:P3D
REFRESH-INTERVAL:P3D
CALSCALE:GREGORIAN
BEGIN:VEVENT
DTSTART:20130827T120000Z
DTEND:20130827T130000Z
X-MICROSOFT-CDO-ALLDAYEVENT:FALSE
SUMMARY:Workforce Development
DESCRIPTION:Workforce Depveopment Meeting
X-ALT-DESC;FMTTYPE=text/html:Workforce Depveopment Meeting
LOCATION:Solvay (Rhodia)
UID:e.363.5035
SEQUENCE:3
DTSTAMP:20260422T191109Z
URL:https://barrowcm.365dtm.com/events/details/workforce-development-08-27-2013-5035
END:VEVENT

END:VCALENDAR
