BEGIN:VCALENDAR
VERSION:2.0
PRODID:-//ChamberMaster//Event Calendar 2.0//EN
METHOD:PUBLISH
X-PUBLISHED-TTL:P3D
REFRESH-INTERVAL:P3D
CALSCALE:GREGORIAN
BEGIN:VEVENT
DTSTART:20150916T123000Z
DTEND:20150916T133000Z
X-MICROSOFT-CDO-ALLDAYEVENT:FALSE
SUMMARY:Workforce Development
DESCRIPTION:Workforce Development at Lanier Tech
X-ALT-DESC;FMTTYPE=text/html:Workforce Development at Lanier Tech
LOCATION:
UID:e.363.5814
SEQUENCE:3
DTSTAMP:20260421T010207Z
URL:https://barrowcm.365dtm.com/events/details/workforce-development-09-16-2015-5814
END:VEVENT

END:VCALENDAR
