BEGIN:VCALENDAR
VERSION:2.0
PRODID:-//ChamberMaster//Event Calendar 2.0//EN
METHOD:PUBLISH
X-PUBLISHED-TTL:P3D
REFRESH-INTERVAL:P3D
CALSCALE:GREGORIAN
BEGIN:VEVENT
DTSTART:20120919T123000Z
DTEND:20120919T133000Z
X-MICROSOFT-CDO-ALLDAYEVENT:FALSE
SUMMARY:Workforce Development
DESCRIPTION:Workforce Development
X-ALT-DESC;FMTTYPE=text/html:Workforce Development
LOCATION:Rhodia
UID:e.363.4562
SEQUENCE:3
DTSTAMP:20260423T113446Z
URL:https://barrowcm.365dtm.com/events/details/workforce-development-09-19-2012-4562
END:VEVENT

END:VCALENDAR
