BEGIN:VCALENDAR
VERSION:2.0
PRODID:-//ChamberMaster//Event Calendar 2.0//EN
METHOD:PUBLISH
X-PUBLISHED-TTL:P3D
REFRESH-INTERVAL:P3D
CALSCALE:GREGORIAN
BEGIN:VEVENT
DTSTART:20111109T123000Z
DTEND:20111109T133000Z
X-MICROSOFT-CDO-ALLDAYEVENT:FALSE
SUMMARY:Workforce Development
DESCRIPTION:Workforce Development Committee
X-ALT-DESC;FMTTYPE=text/html:Workforce Development Committee
LOCATION:The Chamber Office #6 Porter Street\, Winder
UID:e.363.4110
SEQUENCE:3
DTSTAMP:20260424T024350Z
URL:https://barrowcm.365dtm.com/events/details/workforce-development-11-09-2011-4110
END:VEVENT

END:VCALENDAR
