BEGIN:VCALENDAR
VERSION:2.0
PRODID:-//ChamberMaster//Event Calendar 2.0//EN
METHOD:PUBLISH
X-PUBLISHED-TTL:P3D
REFRESH-INTERVAL:P3D
CALSCALE:GREGORIAN
BEGIN:VEVENT
DTSTART:20161116T130000Z
DTEND:20161117T040000Z
X-MICROSOFT-CDO-ALLDAYEVENT:FALSE
SUMMARY:Workforce Development
DESCRIPTION:Workforce Development
X-ALT-DESC;FMTTYPE=text/html:Workforce Development
LOCATION:Sims Academy
UID:e.363.6899
SEQUENCE:3
DTSTAMP:20260420T030907Z
URL:https://barrowcm.365dtm.com/events/details/workforce-development-6899
END:VEVENT

END:VCALENDAR
