BEGIN:VCALENDAR
VERSION:2.0
PRODID:-//ChamberMaster//Event Calendar 2.0//EN
METHOD:PUBLISH
X-PUBLISHED-TTL:P3D
REFRESH-INTERVAL:P3D
CALSCALE:GREGORIAN
BEGIN:VEVENT
DTSTART:20130124T170000Z
DTEND:20130124T170000Z
X-MICROSOFT-CDO-ALLDAYEVENT:FALSE
SUMMARY:YMCA Team Lean 2013 Community Weight Loss Challenge
DESCRIPTION:YMCA of Georgia's Piedmont presents:\n\n\n\nTeam Lean 2013 Community Weight Loss Challenge\n\nChange Starts Here!!!!!\n\nRegister NOW!  Starts Dec.4- Jan. 24th\n\n$60 per person\n\n$90 (per person with 2 personal training sessions)\n\nSign-up at Welcome Center\n\nt-shirts for all participants and cash prizes for top teams and individuals\n\n\n\nChallenge starts Jan. 24- Mar. 21st
X-ALT-DESC;FMTTYPE=text/html:YMCA of Georgia&#39\;s Piedmont presents:<br />\n<br />\nTeam Lean 2013 Community Weight Loss Challenge<br />\nChange Starts Here!!!!!<br />\nRegister NOW!&nbsp\; Starts Dec.4- Jan. 24th<br />\n$60 per person<br />\n$90 (per person with 2 personal training sessions)<br />\nSign-up at Welcome Center<br />\nt-shirts for all participants and cash prizes for top teams and individuals<br />\n<br />\nChallenge starts Jan. 24- Mar. 21st
LOCATION:YMCA of Georgia's Piedmont- Brad Akins Branch
UID:e.363.4801
SEQUENCE:3
DTSTAMP:20260423T053857Z
URL:https://barrowcm.365dtm.com/events/details/ymca-team-lean-2013-community-weight-loss-challenge-01-24-2013-4801
END:VEVENT

END:VCALENDAR
