BEGIN:VCALENDAR
VERSION:2.0
PRODID:-//ChamberMaster//Event Calendar 2.0//EN
METHOD:PUBLISH
X-PUBLISHED-TTL:P3D
REFRESH-INTERVAL:P3D
CALSCALE:GREGORIAN
BEGIN:VEVENT
DTSTART:20121201T223000Z
DTEND:20121202T003000Z
X-MICROSOFT-CDO-ALLDAYEVENT:FALSE
SUMMARY:YMCA Zumba Party in Toyland
DESCRIPTION:Kick off the Christmas season by bringing an unwrapped  toy for a child newborn to 13 yrs old and Zumba your way into the holidays.  Zumba Party is from 5:30-7:30pm...Community is invited.  All toys will benefit our YMCA Angel Tree.
X-ALT-DESC;FMTTYPE=text/html:Kick off the Christmas season by bringing an<u> unwrapped</u>&nbsp\; toy for a child newborn to 13 yrs old and Zumba your way into the holidays.&nbsp\; Zumba Party is from 5:30-7:30pm...Community is invited.&nbsp\; All toys will benefit our YMCA Angel Tree.&nbsp\; 
LOCATION:YMCA Gym
UID:e.363.4800
SEQUENCE:3
DTSTAMP:20260423T071833Z
URL:https://barrowcm.365dtm.com/events/details/ymca-zumba-party-in-toyland-12-01-2012-4800
END:VEVENT

END:VCALENDAR
