BEGIN:VCALENDAR
VERSION:2.0
PRODID:-//ChamberMaster//Event Calendar 2.0//EN
METHOD:PUBLISH
X-PUBLISHED-TTL:P3D
REFRESH-INTERVAL:P3D
CALSCALE:GREGORIAN
BEGIN:VEVENT
DTSTART:20100929T150000Z
DTEND:20100929T160000Z
X-MICROSOFT-CDO-ALLDAYEVENT:FALSE
SUMMARY:Young Professionals
DESCRIPTION:Young Professional Meeting\n\n	lunch
X-ALT-DESC;FMTTYPE=text/html:<p>\n	Young Professional Meeting</p>\n<p>\n	lunch</p>\n
LOCATION:Chamber Office
UID:e.363.3594
SEQUENCE:3
DTSTAMP:20260424T230527Z
URL:https://barrowcm.365dtm.com/events/details/young-professionals-09-29-2010-3594
END:VEVENT

END:VCALENDAR
