BEGIN:VCALENDAR
VERSION:2.0
PRODID:-//ChamberMaster//Event Calendar 2.0//EN
METHOD:PUBLISH
X-PUBLISHED-TTL:P3D
REFRESH-INTERVAL:P3D
CALSCALE:GREGORIAN
BEGIN:VEVENT
DTSTART:20091015T183000Z
DTEND:20091015T200000Z
X-MICROSOFT-CDO-ALLDAYEVENT:FALSE
SUMMARY:Youth Connection Meeting
DESCRIPTION:Task Force of Barrow County Family Connection/Communities In Schools that focuses on empowering youth to make healthy decisions around risky behaviors. Come help us plan future events!
X-ALT-DESC;FMTTYPE=text/html:Task Force of Barrow County Family Connection/Communities In Schools that focuses on empowering youth to make healthy decisions around risky behaviors. Come help us plan future events!
LOCATION:Smith Heights\, BCFC/CIS office\, 34 Village Court\, #147\, off of South Jackson Street across from Hope Spivey gym
UID:e.363.3052
SEQUENCE:3
DTSTAMP:20260425T153027Z
URL:https://barrowcm.365dtm.com/events/details/youth-connection-meeting-10-15-2009-3052
END:VEVENT

END:VCALENDAR
