BEGIN:VCALENDAR
VERSION:2.0
PRODID:-//ChamberMaster//Event Calendar 2.0//EN
METHOD:PUBLISH
X-PUBLISHED-TTL:P3D
REFRESH-INTERVAL:P3D
CALSCALE:GREGORIAN
BEGIN:VEVENT
DTSTART:20131025T230000Z
DTEND:20131026T000000Z
X-MICROSOFT-CDO-ALLDAYEVENT:FALSE
SUMMARY:Zombie Zumba
DESCRIPTION:Anytime Fitness Sponsoring Zombie Zumba
X-ALT-DESC;FMTTYPE=text/html:Anytime Fitness Sponsoring Zombie Zumba<br />\n
LOCATION:Athens to Midland
UID:e.363.5147
SEQUENCE:3
DTSTAMP:20260422T161215Z
URL:https://barrowcm.365dtm.com/events/details/zombie-zumba-10-25-2013-5147
END:VEVENT

END:VCALENDAR
