BEGIN:VCALENDAR
VERSION:2.0
PRODID:-//ChamberMaster//Event Calendar 2.0//EN
METHOD:PUBLISH
X-PUBLISHED-TTL:P3D
REFRESH-INTERVAL:P3D
CALSCALE:GREGORIAN
BEGIN:VEVENT
DTSTART:20121116T233000Z
DTEND:20121117T013000Z
X-MICROSOFT-CDO-ALLDAYEVENT:FALSE
SUMMARY:Zumba Party for Tripp
DESCRIPTION:ZUMBA PARTY for Tripp!  Come to the Y this Friday evening from 6:30-8:30pm for lots of fun and exercise.  Cost is $10 and all the proceeds go to the Halstead Family.  Community is invited.  Childcare is not provided.  Hope to see you there!
X-ALT-DESC;FMTTYPE=text/html:ZUMBA PARTY for Tripp!&nbsp\; Come to the Y this Friday evening from 6:30-8:30pm for lots of fun and exercise.&nbsp\; Cost is $10 and all the proceeds go to the Halstead Family.&nbsp\; Community is invited.&nbsp\; Childcare is not provided.&nbsp\; Hope to see you there!
LOCATION:YMCA of Georgia's Piedmont- Brad Akins Branch
UID:e.363.4792
SEQUENCE:3
DTSTAMP:20260423T084952Z
URL:https://barrowcm.365dtm.com/events/details/zumba-party-for-tripp-11-16-2012-4792
END:VEVENT

END:VCALENDAR
