BEGIN:VCALENDAR
VERSION:2.0
PRODID:-//ChamberMaster//Event Calendar 2.0//EN
METHOD:PUBLISH
X-PUBLISHED-TTL:P3D
REFRESH-INTERVAL:P3D
CALSCALE:GREGORIAN
BEGIN:VEVENT
DTSTART:20120930T190000Z
DTEND:20120930T210000Z
X-MICROSOFT-CDO-ALLDAYEVENT:FALSE
SUMMARY:Zumbathon
DESCRIPTION:ZUMBATHON!\n\n		Sunday September 30th  \n\n		3pm-5pm\n\n		Barrow County Chamber of Commerce\n\n		6 Porter St Winder\n\n		 $10 Entry Fee  \n\n		RAFFLES/SNACKS/ ZUMBA WEAR  AVAILABLE TO PURCHASE  \n\n		For more info call 770.307.0319  or click here: Zumbathon.pdf
X-ALT-DESC;FMTTYPE=text/html:<div class="literalContent">\n	<p style="text-align: center">\n		<strong>ZUMBATHON!<br />\n		Sunday September 30th&nbsp\;&nbsp\;<br />\n		3pm-5pm<br />\n		Barrow County Chamber of Commerce<br />\n		6 Porter St Winder<br />\n		&nbsp\;$10 Entry Fee&nbsp\;&nbsp\;<br />\n		RAFFLES/SNACKS/ ZUMBA WEAR&nbsp\; AVAILABLE TO PURCHASE&nbsp\;&nbsp\;<br />\n		For more info call 770.307.0319</strong>&nbsp\;&nbsp\;or click here: <a href="http://www.barrowregional.com/Resources/33/FileRepository/Zumbathon.pdf" target="_blank"><strong>Zumbathon.pdf</strong></a></p>\n</div>\n
LOCATION:Chamber of Commerce
UID:e.363.4568
SEQUENCE:3
DTSTAMP:20260423T114830Z
URL:https://barrowcm.365dtm.com/events/details/zumbathon-09-30-2012-4568
END:VEVENT

END:VCALENDAR
